BEGIN:VCALENDAR
VERSION:2.0
PRODID:SchoolNow
CALSCALE:GREGORIAN
BEGIN:VEVENT
UID:a4de6e14-3a95-11f1-8523-0a58a9feac02
DTSTAMP:20260417T194301Z
SUMMARY:Special Board Meeting
URL;VALUE=URI:https://www.altoona.k12.wi.us/district/school-board/calendar/
 9001014/special-board-meeting
DTSTART:20260420T233000Z
DTEND:20260421T003000Z
END:VEVENT
END:VCALENDAR
