BEGIN:VCALENDAR
VERSION:2.0
PRODID:SchoolNow
CALSCALE:GREGORIAN
BEGIN:VEVENT
UID:4078682e-77fd-11e9-9a5a-0a4256a3c7c0
DTSTAMP:20190516T170840Z
SUMMARY:ELEMENTARY OFFICE OPENS
URL;VALUE=URI:https://www.altoona.k12.wi.us/schools/elementary-school/calen
 dar/1986850/elementary-office-opens
DTSTART:20190819T170700Z
DTEND:20190819T180700Z
END:VEVENT
END:VCALENDAR
