BEGIN:VCALENDAR
VERSION:2.0
PRODID:SchoolNow
CALSCALE:GREGORIAN
BEGIN:VEVENT
UID:54b981d2-3773-11f1-951c-0a58a9feac02
DTSTAMP:20260413T195950Z
SUMMARY:Prom
URL;VALUE=URI:https://www.altoona.k12.wi.us/schools/high-school/calendar/89
 91607/prom
DTSTART:20260503T010000Z
DTEND:20260503T040000Z
END:VEVENT
END:VCALENDAR
